BEGIN:VCALENDAR
VERSION:2.0
PRODID:-//Music Folk St. Louis - ECPv6.15.20//NONSGML v1.0//EN
CALSCALE:GREGORIAN
METHOD:PUBLISH
X-ORIGINAL-URL:https://musicfolk.com
X-WR-CALDESC:Events for Music Folk St. Louis
REFRESH-INTERVAL;VALUE=DURATION:PT1H
X-Robots-Tag:noindex
X-PUBLISHED-TTL:PT1H
BEGIN:VTIMEZONE
TZID:America/Chicago
BEGIN:DAYLIGHT
TZOFFSETFROM:-0600
TZOFFSETTO:-0500
TZNAME:CDT
DTSTART:20230312T080000
END:DAYLIGHT
BEGIN:STANDARD
TZOFFSETFROM:-0500
TZOFFSETTO:-0600
TZNAME:CST
DTSTART:20231105T070000
END:STANDARD
BEGIN:DAYLIGHT
TZOFFSETFROM:-0600
TZOFFSETTO:-0500
TZNAME:CDT
DTSTART:20240310T080000
END:DAYLIGHT
BEGIN:STANDARD
TZOFFSETFROM:-0500
TZOFFSETTO:-0600
TZNAME:CST
DTSTART:20241103T070000
END:STANDARD
BEGIN:DAYLIGHT
TZOFFSETFROM:-0600
TZOFFSETTO:-0500
TZNAME:CDT
DTSTART:20250309T080000
END:DAYLIGHT
BEGIN:STANDARD
TZOFFSETFROM:-0500
TZOFFSETTO:-0600
TZNAME:CST
DTSTART:20251102T070000
END:STANDARD
END:VTIMEZONE
BEGIN:VTIMEZONE
TZID:America/Kentucky/Louisville
BEGIN:DAYLIGHT
TZOFFSETFROM:-0500
TZOFFSETTO:-0400
TZNAME:EDT
DTSTART:20230312T070000
END:DAYLIGHT
BEGIN:STANDARD
TZOFFSETFROM:-0400
TZOFFSETTO:-0500
TZNAME:EST
DTSTART:20231105T060000
END:STANDARD
BEGIN:DAYLIGHT
TZOFFSETFROM:-0500
TZOFFSETTO:-0400
TZNAME:EDT
DTSTART:20240310T070000
END:DAYLIGHT
BEGIN:STANDARD
TZOFFSETFROM:-0400
TZOFFSETTO:-0500
TZNAME:EST
DTSTART:20241103T060000
END:STANDARD
BEGIN:DAYLIGHT
TZOFFSETFROM:-0500
TZOFFSETTO:-0400
TZNAME:EDT
DTSTART:20250309T070000
END:DAYLIGHT
BEGIN:STANDARD
TZOFFSETFROM:-0400
TZOFFSETTO:-0500
TZNAME:EST
DTSTART:20251102T060000
END:STANDARD
END:VTIMEZONE
BEGIN:VEVENT
DTSTART;TZID=America/Chicago:20240409T190000
DTEND;TZID=America/Chicago:20240409T210000
DTSTAMP:20260421T042421
CREATED:20240327T183757Z
LAST-MODIFIED:20240327T183757Z
UID:44243-1712689200-1712696400@musicfolk.com
SUMMARY:Old Time Jam
DESCRIPTION:Join fiddler Ray Gude as he hosts our Old Time Jam every second Tuesday of the month at Music Folk. The jam is open to all acoustic players of all skill level and all ages. Bring your instrument and play along\, or just listen!
URL:https://musicfolk.com/event/old-time-jam-20/
LOCATION:Music Folk Parlor\, 8015 BIg Bend\, Webster Groves\, MO\, 63119\, United States
CATEGORIES:Sessions/Jams
ATTACH;FMTTYPE=image/jpeg:https://musicfolk.com/wp-content/uploads/2024/03/0604000103-l_edited.jpg
ORGANIZER;CN="Music Folk":MAILTO:musicfolk@musicfolk.com
END:VEVENT
BEGIN:VEVENT
DTSTART;TZID=America/Kentucky/Louisville:20240423T080000
DTEND;TZID=America/Kentucky/Louisville:20240423T170000
DTSTAMP:20260421T042421
CREATED:20240327T184507Z
LAST-MODIFIED:20240327T184507Z
UID:44246-1713859200-1713891600@musicfolk.com
SUMMARY:Folk and Old Time Jam
DESCRIPTION:Join fiddler Ray Gude as he hosts our new\, Not So Old Time Jam every fourth Tuesday of the month at Music Folk. The jam is open to all acoustic players of all skill level and all ages. Bring your instrument and play and sing along\, or just listen! \nThe difference between this and our 2nd Tuesday’s Old Time Jam\, is that this one will be less fiddle tune oriented. Early bluegrass\, blues\, folk and old time tunes will be played\, giving guitarists\, banjo players\, singers\, etc. more of an opportunity to step up\, join in and have fun!
URL:https://musicfolk.com/event/folk-and-old-time-jam/
LOCATION:Music Folk Parlor\, 8015 BIg Bend\, Webster Groves\, MO\, 63119\, United States
CATEGORIES:Sessions/Jams
ATTACH;FMTTYPE=image/jpeg:https://musicfolk.com/wp-content/uploads/2024/03/Group-crop_0_edited.jpg
ORGANIZER;CN="Music Folk":MAILTO:musicfolk@musicfolk.com
END:VEVENT
END:VCALENDAR